BEGIN:VCALENDAR
VERSION:2.0
PRODID:-//The Motoring Diary - ECPv6.15.20//NONSGML v1.0//EN
CALSCALE:GREGORIAN
METHOD:PUBLISH
X-WR-CALNAME:The Motoring Diary
X-ORIGINAL-URL:http://themotoringdiary.com
X-WR-CALDESC:Events for The Motoring Diary
REFRESH-INTERVAL;VALUE=DURATION:PT1H
X-Robots-Tag:noindex
X-PUBLISHED-TTL:PT1H
BEGIN:VTIMEZONE
TZID:Europe/London
BEGIN:DAYLIGHT
TZOFFSETFROM:+0000
TZOFFSETTO:+0100
TZNAME:BST
DTSTART:20210328T010000
END:DAYLIGHT
BEGIN:STANDARD
TZOFFSETFROM:+0100
TZOFFSETTO:+0000
TZNAME:GMT
DTSTART:20211031T010000
END:STANDARD
BEGIN:DAYLIGHT
TZOFFSETFROM:+0000
TZOFFSETTO:+0100
TZNAME:BST
DTSTART:20220327T010000
END:DAYLIGHT
BEGIN:STANDARD
TZOFFSETFROM:+0100
TZOFFSETTO:+0000
TZNAME:GMT
DTSTART:20221030T010000
END:STANDARD
BEGIN:DAYLIGHT
TZOFFSETFROM:+0000
TZOFFSETTO:+0100
TZNAME:BST
DTSTART:20230326T010000
END:DAYLIGHT
BEGIN:STANDARD
TZOFFSETFROM:+0100
TZOFFSETTO:+0000
TZNAME:GMT
DTSTART:20231029T010000
END:STANDARD
END:VTIMEZONE
BEGIN:VEVENT
DTSTART;VALUE=DATE:20220305
DTEND;VALUE=DATE:20220306
DTSTAMP:20260425T170253
CREATED:20211224T080730Z
LAST-MODIFIED:20211224T080730Z
UID:37004-1646438400-1646524799@themotoringdiary.com
SUMMARY:Amelia Island - Auction
DESCRIPTION:
URL:http://themotoringdiary.com/event/amelia-island-auction/
LOCATION:The Ritz-Carlton Hotel\, 4750 Amelia Island Parkway\, Amelia Island\, FL\, 32034
CATEGORIES:2022,Auctions,RM Sothebys
ATTACH;FMTTYPE=image/png:http://themotoringdiary.com/wp-content/uploads/2021/11/RMSothebys-1.png
GEO:30.5936015;-81.4452372
X-APPLE-STRUCTURED-LOCATION;VALUE=URI;X-ADDRESS=The Ritz-Carlton Hotel 4750 Amelia Island Parkway Amelia Island FL 32034;X-APPLE-RADIUS=500;X-TITLE=4750 Amelia Island Parkway:geo:-81.4452372,30.5936015
END:VEVENT
END:VCALENDAR