BEGIN:VCALENDAR
VERSION:2.0
PRODID:-//The Motoring Diary - ECPv6.15.20//NONSGML v1.0//EN
CALSCALE:GREGORIAN
METHOD:PUBLISH
X-WR-CALNAME:The Motoring Diary
X-ORIGINAL-URL:http://themotoringdiary.com
X-WR-CALDESC:Events for The Motoring Diary
REFRESH-INTERVAL;VALUE=DURATION:PT1H
X-Robots-Tag:noindex
X-PUBLISHED-TTL:PT1H
BEGIN:VTIMEZONE
TZID:Europe/London
BEGIN:DAYLIGHT
TZOFFSETFROM:+0000
TZOFFSETTO:+0100
TZNAME:BST
DTSTART:20210328T010000
END:DAYLIGHT
BEGIN:STANDARD
TZOFFSETFROM:+0100
TZOFFSETTO:+0000
TZNAME:GMT
DTSTART:20211031T010000
END:STANDARD
BEGIN:DAYLIGHT
TZOFFSETFROM:+0000
TZOFFSETTO:+0100
TZNAME:BST
DTSTART:20220327T010000
END:DAYLIGHT
BEGIN:STANDARD
TZOFFSETFROM:+0100
TZOFFSETTO:+0000
TZNAME:GMT
DTSTART:20221030T010000
END:STANDARD
BEGIN:DAYLIGHT
TZOFFSETFROM:+0000
TZOFFSETTO:+0100
TZNAME:BST
DTSTART:20230326T010000
END:DAYLIGHT
BEGIN:STANDARD
TZOFFSETFROM:+0100
TZOFFSETTO:+0000
TZNAME:GMT
DTSTART:20231029T010000
END:STANDARD
END:VTIMEZONE
BEGIN:VEVENT
DTSTART;TZID=Europe/London:20220101T100000
DTEND;TZID=Europe/London:20220101T170000
DTSTAMP:20260422T194310
CREATED:20211223T170304Z
LAST-MODIFIED:20211224T084244Z
UID:36782-1641031200-1641056400@themotoringdiary.com
SUMMARY:Ace Café Hangover Meet
DESCRIPTION:
URL:http://themotoringdiary.com/event/ace-cafe-hangover-meet/
LOCATION:Ace Café\, Brent\, London\, NW10 7UD\, United Kingdom
CATEGORIES:2022,Social Meets
ATTACH;FMTTYPE=image/jpeg:http://themotoringdiary.com/wp-content/uploads/2021/11/Ace-Cafe.jpg
GEO:51.5408184;-0.2781646
X-APPLE-STRUCTURED-LOCATION;VALUE=URI;X-ADDRESS=Ace Café Brent London NW10 7UD United Kingdom;X-APPLE-RADIUS=500;X-TITLE=Brent:geo:-0.2781646,51.5408184
END:VEVENT
END:VCALENDAR